|SUCCESS| [GIT MASTER] a7bacafd92ce9769d5b22b13406687f851152549

dpdklab at iol.unh.edu dpdklab at iol.unh.edu
Wed Nov 15 21:24:22 CET 2023


_Testing PASS_

Branch: dpdk-next-net

a7bacafd92ce9769d5b22b13406687f851152549 --> testing pass

Test environment and result as below:

+-----------------------+--------------+----------------+
|      Environment      | lpm_autotest | dpdk_unit_test |
+=======================+==============+================+
| Ubuntu 20.04 ARM SVE  | PASS         | SKIPPED        |
+-----------------------+--------------+----------------+
| CentOS Stream 9 (ARM) | SKIPPED      | PASS           |
+-----------------------+--------------+----------------+
| Fedora 38 (ARM)       | SKIPPED      | PASS           |
+-----------------------+--------------+----------------+
| Fedora 37 (ARM)       | SKIPPED      | PASS           |
+-----------------------+--------------+----------------+


Ubuntu 20.04 ARM SVE
	Kernel: 5.4.0-80-generic
	Compiler: gcc 10.3.0 (Ubuntu 10.3.0-1ubuntu1~20.04)

CentOS Stream 9 (ARM)
	Kernel: Container Host Kernel
	Compiler: gcc 11.3.1

Fedora 38 (ARM)
	Kernel: Depends on container host
	Compiler: gcc 13.1.1

Fedora 37 (ARM)
	Kernel: Depends on container host
	Compiler: gcc 12.3.1

To view detailed results, visit:
https://lab.dpdk.org/results/dashboard/tarballs/27010/

UNH-IOL DPDK Community Lab

To manage your email subscriptions, visit: 
https://lab.dpdk.org/results/dashboard/preferences/subscriptions/


More information about the test-report mailing list