|SUCCESS| [GIT MASTER] 75d383a63f1db0df78cc2f9e7e0f0578a28fa76f

dpdklab at iol.unh.edu dpdklab at iol.unh.edu
Thu Nov 16 13:24:08 CET 2023


_Testing PASS_

Branch: 21.11-staging

75d383a63f1db0df78cc2f9e7e0f0578a28fa76f --> testing pass

Test environment and result as below:

+---------------------+--------------------+----------------------+
|     Environment     | dpdk_meson_compile | dpdk_mingw64_compile |
+=====================+====================+======================+
| Windows Server 2019 | PASS               | PASS                 |
+---------------------+--------------------+----------------------+
| FreeBSD 13          | PASS               | SKIPPED              |
+---------------------+--------------------+----------------------+


Windows Server 2019
	Kernel: 10.0
	Compiler: clang 14.0 and gcc 8.1.0 (MinGW)

FreeBSD 13
	Kernel: 13.0
	Compiler: clang 11.0.1

To view detailed results, visit:
https://lab.dpdk.org/results/dashboard/tarballs/27019/

UNH-IOL DPDK Community Lab

To manage your email subscriptions, visit: 
https://lab.dpdk.org/results/dashboard/preferences/subscriptions/


More information about the test-report mailing list