|SUCCESS| pw134428 [PATCH] [v3] net/axgbe: support TSO

dpdklab at iol.unh.edu dpdklab at iol.unh.edu
Thu Nov 16 17:37:53 CET 2023


Test-Label: iol-unit-arm64-testing
Test-Status: SUCCESS
http://dpdk.org/patch/134428

_Testing PASS_

Submitter: Jesna K E <jesna.k.e at amd.com>
Date: Thursday, November 16 2023 16:03:26 
DPDK git baseline: Repo:dpdk
  Branch: master
  CommitID:92d7ce4afc4a558f27bbc8368823c625f4e0f9dc

134428 --> testing pass

Test environment and result as below:

+-----------------------+------------------------------+---------------------------+----------------+
|      Environment      | cryptodev_sw_snow3g_autotest | cryptodev_sw_zuc_autotest | dpdk_unit_test |
+=======================+==============================+===========================+================+
| Debian 11 (arm)       | PASS                         | PASS                      | SKIPPED        |
+-----------------------+------------------------------+---------------------------+----------------+
| CentOS Stream 9 (ARM) | SKIPPED                      | SKIPPED                   | PASS           |
+-----------------------+------------------------------+---------------------------+----------------+


Debian 11 (arm)
	Kernel: Container Host Kernel
	Compiler: gcc 10.2.1

CentOS Stream 9 (ARM)
	Kernel: Container Host Kernel
	Compiler: gcc 11.3.1

To view detailed results, visit:
https://lab.dpdk.org/results/dashboard/patchsets/28400/

UNH-IOL DPDK Community Lab

To manage your email subscriptions, visit: 
https://lab.dpdk.org/results/dashboard/preferences/subscriptions/


More information about the test-report mailing list