|SUCCESS| pw134430 [PATCH] app/testpmd: fix set Tx offload command

dpdklab at iol.unh.edu dpdklab at iol.unh.edu
Thu Nov 16 19:12:41 CET 2023


Test-Label: iol-unit-amd64-testing
Test-Status: SUCCESS
http://dpdk.org/patch/134430

_Testing PASS_

Submitter: Ferruh Yigit <ferruh.yigit at amd.com>
Date: Thursday, November 16 2023 17:21:55 
DPDK git baseline: Repo:dpdk
  Branch: master
  CommitID:92d7ce4afc4a558f27bbc8368823c625f4e0f9dc

134430 --> testing pass

Test environment and result as below:

+-----------------+----------------+
|   Environment   | dpdk_unit_test |
+=================+================+
| Debian Buster   | PASS           |
+-----------------+----------------+
| CentOS Stream 8 | PASS           |
+-----------------+----------------+
| Debian Bullseye | PASS           |
+-----------------+----------------+
| CentOS Stream 9 | PASS           |
+-----------------+----------------+


Debian Buster
	Kernel: 5.4.0-122-generic
	Compiler: gcc 8.3.0-6

CentOS Stream 8
	Kernel: 4.18.0-240.10.1.el8_3.x86_64
	Compiler: gcc 8.4.1 20200928

Debian Bullseye
	Kernel: 5.4.0-122-generic
	Compiler: gcc 10.2.1-6

CentOS Stream 9
	Kernel: 4.18.0-240.10.1.el8_3.x86_64
	Compiler: gcc 11.3.1 20220421

To view detailed results, visit:
https://lab.dpdk.org/results/dashboard/patchsets/28402/

UNH-IOL DPDK Community Lab

To manage your email subscriptions, visit: 
https://lab.dpdk.org/results/dashboard/preferences/subscriptions/


More information about the test-report mailing list