|SUCCESS| pw134432-134431 [PATCH] [v8,3/3] test/dma: add SG copy tes

dpdklab at iol.unh.edu dpdklab at iol.unh.edu
Fri Nov 17 00:16:08 CET 2023


Test-Label: iol-unit-arm64-testing
Test-Status: SUCCESS
http://dpdk.org/patch/134431

_Testing PASS_

Submitter: Gowrishankar Muthukrishnan <gmuthukrishn at marvell.com>
Date: Thursday, November 16 2023 17:45:27 
DPDK git baseline: Repo:dpdk
  Branch: master
  CommitID:6d7129a6e93b7cb52efff009b29ef1a0f2cb76b4

134432-134431 --> testing pass

Test environment and result as below:

+-----------------+------------------------------+---------------------------+----------------+
|   Environment   | cryptodev_sw_snow3g_autotest | cryptodev_sw_zuc_autotest | dpdk_unit_test |
+=================+==============================+===========================+================+
| Debian 11 (arm) | PASS                         | PASS                      | SKIPPED        |
+-----------------+------------------------------+---------------------------+----------------+
| Fedora 37 (ARM) | SKIPPED                      | SKIPPED                   | PASS           |
+-----------------+------------------------------+---------------------------+----------------+
| Fedora 38 (ARM) | SKIPPED                      | SKIPPED                   | PASS           |
+-----------------+------------------------------+---------------------------+----------------+


Debian 11 (arm)
	Kernel: Container Host Kernel
	Compiler: gcc 10.2.1

Fedora 37 (ARM)
	Kernel: Depends on container host
	Compiler: gcc 12.3.1

Fedora 38 (ARM)
	Kernel: Depends on container host
	Compiler: gcc 13.1.1

To view detailed results, visit:
https://lab.dpdk.org/results/dashboard/patchsets/28403/

UNH-IOL DPDK Community Lab

To manage your email subscriptions, visit: 
https://lab.dpdk.org/results/dashboard/preferences/subscriptions/


More information about the test-report mailing list