|SUCCESS| pw134450 [PATCH] [v2] crypto/qat: fix block cipher misalig
    dpdklab at iol.unh.edu 
    dpdklab at iol.unh.edu
       
    Fri Nov 17 15:10:34 CET 2023
    
    
  
Test-Label: iol-unit-arm64-testing
Test-Status: SUCCESS
http://dpdk.org/patch/134450
_Testing PASS_
Submitter: Sivaramakrishnan Venkat <venkatx.sivaramakrishnan at intel.com>
Date: Friday, November 17 2023 12:37:44 
DPDK git baseline: Repo:dpdk
  Branch: master
  CommitID:6d7129a6e93b7cb52efff009b29ef1a0f2cb76b4
134450 --> testing pass
Test environment and result as below:
+-----------------------+---------------------------+------------------------------+----------------+--------------+
|      Environment      | cryptodev_sw_zuc_autotest | cryptodev_sw_snow3g_autotest | dpdk_unit_test | lpm_autotest |
+=======================+===========================+==============================+================+==============+
| Debian 11 (arm)       | PASS                      | PASS                         | SKIPPED        | SKIPPED      |
+-----------------------+---------------------------+------------------------------+----------------+--------------+
| CentOS Stream 9 (ARM) | SKIPPED                   | SKIPPED                      | PASS           | SKIPPED      |
+-----------------------+---------------------------+------------------------------+----------------+--------------+
| Fedora 37 (ARM)       | SKIPPED                   | SKIPPED                      | PASS           | SKIPPED      |
+-----------------------+---------------------------+------------------------------+----------------+--------------+
| Ubuntu 20.04 ARM SVE  | SKIPPED                   | SKIPPED                      | SKIPPED        | PASS         |
+-----------------------+---------------------------+------------------------------+----------------+--------------+
Debian 11 (arm)
	Kernel: Container Host Kernel
	Compiler: gcc 10.2.1
CentOS Stream 9 (ARM)
	Kernel: Container Host Kernel
	Compiler: gcc 11.3.1
Fedora 37 (ARM)
	Kernel: Depends on container host
	Compiler: gcc 12.3.1
Ubuntu 20.04 ARM SVE
	Kernel: 5.4.0-80-generic
	Compiler: gcc 10.3.0 (Ubuntu 10.3.0-1ubuntu1~20.04)
To view detailed results, visit:
https://lab.dpdk.org/results/dashboard/patchsets/28408/
UNH-IOL DPDK Community Lab
To manage your email subscriptions, visit: 
https://lab.dpdk.org/results/dashboard/preferences/subscriptions/
    
    
More information about the test-report
mailing list