|SUCCESS| pw134454-134463 [PATCH] [v3,10/10] common/dpaxx: remove ze
dpdklab at iol.unh.edu
dpdklab at iol.unh.edu
Fri Nov 17 18:42:01 CET 2023
Test-Label: iol-unit-arm64-testing
Test-Status: SUCCESS
http://dpdk.org/patch/134463
_Testing PASS_
Submitter: Stephen Hemminger <stephen at networkplumber.org>
Date: Friday, November 17 2023 16:18:36
DPDK git baseline: Repo:dpdk
Branch: master
CommitID:6d7129a6e93b7cb52efff009b29ef1a0f2cb76b4
134454-134463 --> testing pass
Test environment and result as below:
+--------------------------+----------------+--------------+
| Environment | dpdk_unit_test | lpm_autotest |
+==========================+================+==============+
| CentOS Stream 9 (ARM) | PASS | SKIPPED |
+--------------------------+----------------+--------------+
| Debian 11 (Buster) (ARM) | PASS | SKIPPED |
+--------------------------+----------------+--------------+
| Fedora 37 (ARM) | PASS | SKIPPED |
+--------------------------+----------------+--------------+
| Fedora 38 (ARM) | PASS | SKIPPED |
+--------------------------+----------------+--------------+
| Ubuntu 20.04 ARM SVE | SKIPPED | PASS |
+--------------------------+----------------+--------------+
CentOS Stream 9 (ARM)
Kernel: Container Host Kernel
Compiler: gcc 11.3.1
Debian 11 (Buster) (ARM)
Kernel: Container Host Kernel
Compiler: gcc 10.2.1
Fedora 37 (ARM)
Kernel: Depends on container host
Compiler: gcc 12.3.1
Fedora 38 (ARM)
Kernel: Depends on container host
Compiler: gcc 13.1.1
Ubuntu 20.04 ARM SVE
Kernel: 5.4.0-80-generic
Compiler: gcc 10.3.0 (Ubuntu 10.3.0-1ubuntu1~20.04)
To view detailed results, visit:
https://lab.dpdk.org/results/dashboard/patchsets/28410/
UNH-IOL DPDK Community Lab
To manage your email subscriptions, visit:
https://lab.dpdk.org/results/dashboard/preferences/subscriptions/
More information about the test-report
mailing list