|SUCCESS| pw134470 [PATCH] doc/mlx4: set limitation for RSS

dpdklab at iol.unh.edu dpdklab at iol.unh.edu
Mon Nov 20 02:34:17 CET 2023


Test-Label: iol-unit-arm64-testing
Test-Status: SUCCESS
http://dpdk.org/patch/134470

_Testing PASS_

Submitter: Raslan Darawsheh <rasland at nvidia.com>
Date: Sunday, November 19 2023 13:24:30 
DPDK git baseline: Repo:dpdk
  Branch: master
  CommitID:6d7129a6e93b7cb52efff009b29ef1a0f2cb76b4

134470 --> testing pass

Test environment and result as below:

+-----------------------+------------------------------+---------------------------+----------------+
|      Environment      | cryptodev_sw_snow3g_autotest | cryptodev_sw_zuc_autotest | dpdk_unit_test |
+=======================+==============================+===========================+================+
| Debian 11 (arm)       | PASS                         | PASS                      | SKIPPED        |
+-----------------------+------------------------------+---------------------------+----------------+
| CentOS Stream 9 (ARM) | SKIPPED                      | SKIPPED                   | PASS           |
+-----------------------+------------------------------+---------------------------+----------------+
| Fedora 38 (ARM)       | SKIPPED                      | SKIPPED                   | PASS           |
+-----------------------+------------------------------+---------------------------+----------------+


Debian 11 (arm)
	Kernel: Container Host Kernel
	Compiler: gcc 10.2.1

CentOS Stream 9 (ARM)
	Kernel: Container Host Kernel
	Compiler: gcc 11.3.1

Fedora 38 (ARM)
	Kernel: Depends on container host
	Compiler: gcc 13.1.1

To view detailed results, visit:
https://lab.dpdk.org/results/dashboard/patchsets/28413/

UNH-IOL DPDK Community Lab

To manage your email subscriptions, visit: 
https://lab.dpdk.org/results/dashboard/preferences/subscriptions/


More information about the test-report mailing list