|SUCCESS| [GIT MASTER] 6de3135f1e2ec52d25505ae1ea3ef9a242ddcd5d

dpdklab at iol.unh.edu dpdklab at iol.unh.edu
Mon Nov 20 08:27:30 CET 2023


_Testing PASS_

Branch: tags/v21.11

6de3135f1e2ec52d25505ae1ea3ef9a242ddcd5d --> testing pass

Test environment and result as below:

+---------------------+----------------------+--------------------+
|     Environment     | dpdk_mingw64_compile | dpdk_meson_compile |
+=====================+======================+====================+
| Windows Server 2019 | PASS                 | PASS               |
+---------------------+----------------------+--------------------+
| FreeBSD 13          | SKIPPED              | PASS               |
+---------------------+----------------------+--------------------+
| CentOS Stream 8     | SKIPPED              | PASS               |
+---------------------+----------------------+--------------------+
| Debian Bullseye     | SKIPPED              | PASS               |
+---------------------+----------------------+--------------------+
| Debian Buster       | SKIPPED              | PASS               |
+---------------------+----------------------+--------------------+
| Ubuntu 20.04        | SKIPPED              | PASS               |
+---------------------+----------------------+--------------------+
| CentOS Stream 9     | SKIPPED              | PASS               |
+---------------------+----------------------+--------------------+
| RHEL8               | SKIPPED              | PASS               |
+---------------------+----------------------+--------------------+


Windows Server 2019
	Kernel: 10.0
	Compiler: clang 14.0 and gcc 8.1.0 (MinGW)

FreeBSD 13
	Kernel: 13.0
	Compiler: clang 11.0.1

CentOS Stream 8
	Kernel: 4.18.0-240.10.1.el8_3.x86_64
	Compiler: gcc 8.4.1 20200928

Debian Bullseye
	Kernel: 5.4.0-122-generic
	Compiler: gcc 10.2.1-6

Debian Buster
	Kernel: 5.4.0-122-generic
	Compiler: gcc 8.3.0-6

Ubuntu 20.04
	Kernel: 5.4.0-153-generic
	Compiler: gcc 9.4.0-1ubuntu1~20.04.1

CentOS Stream 9
	Kernel: 4.18.0-240.10.1.el8_3.x86_64
	Compiler: gcc 11.3.1 20220421

RHEL8
	Kernel: 4.18.0-240.10.1.el8_3.x86_64
	Compiler: gcc 8.3.1 20191121 (Red Hat 8.3.1-5)

To view detailed results, visit:
https://lab.dpdk.org/results/dashboard/tarballs/27048/

UNH-IOL DPDK Community Lab

To manage your email subscriptions, visit: 
https://lab.dpdk.org/results/dashboard/preferences/subscriptions/


More information about the test-report mailing list