|SUCCESS| pw134475 [PATCH] net/gve: add support for 4K ring size onl
dpdklab at iol.unh.edu
dpdklab at iol.unh.edu
Mon Nov 20 12:02:20 CET 2023
Test-Label: iol-compile-amd64-testing
Test-Status: SUCCESS
http://dpdk.org/patch/134475
_Testing PASS_
Submitter: Rushil Gupta <rushilg at google.com>
Date: Monday, November 20 2023 08:04:30
DPDK git baseline: Repo:dpdk
Branch: master
CommitID:b31898aeefb8ca312fa6a594b9fc583d5e23a8d8
134475 --> testing pass
Test environment and result as below:
+---------------------+--------------------+----------------------+
| Environment | dpdk_meson_compile | dpdk_mingw64_compile |
+=====================+====================+======================+
| Windows Server 2022 | PASS | SKIPPED |
+---------------------+--------------------+----------------------+
| FreeBSD 13 | PASS | SKIPPED |
+---------------------+--------------------+----------------------+
| Windows Server 2019 | SKIPPED | PASS |
+---------------------+--------------------+----------------------+
Windows Server 2022
Kernel: OS Build 20348.2031
Compiler: MSVC VS-Preview
FreeBSD 13
Kernel: 13.0
Compiler: clang 11.0.1
Windows Server 2019
Kernel: 10.0
Compiler: clang 14.0 and gcc 8.1.0 (MinGW)
To view detailed results, visit:
https://lab.dpdk.org/results/dashboard/patchsets/28416/
UNH-IOL DPDK Community Lab
To manage your email subscriptions, visit:
https://lab.dpdk.org/results/dashboard/preferences/subscriptions/
More information about the test-report
mailing list