|SUCCESS| pw134478-134480 [PATCH] [v2,3/3] doc/hns3: fix the usage d

dpdklab at iol.unh.edu dpdklab at iol.unh.edu
Mon Nov 20 13:24:00 CET 2023


Test-Label: iol-unit-arm64-testing
Test-Status: SUCCESS
http://dpdk.org/patch/134480

_Testing PASS_

Submitter: Huisong Li <lihuisong at huawei.com>
Date: Monday, November 20 2023 11:14:04 
DPDK git baseline: Repo:dpdk
  Branch: master
  CommitID:b31898aeefb8ca312fa6a594b9fc583d5e23a8d8

134478-134480 --> testing pass

Test environment and result as below:

+--------------------------+---------------------------+----------------+------------------------------+--------------+
|       Environment        | cryptodev_sw_zuc_autotest | dpdk_unit_test | cryptodev_sw_snow3g_autotest | lpm_autotest |
+==========================+===========================+================+==============================+==============+
| Debian 11 (arm)          | PASS                      | SKIPPED        | PASS                         | SKIPPED      |
+--------------------------+---------------------------+----------------+------------------------------+--------------+
| CentOS Stream 9 (ARM)    | SKIPPED                   | PASS           | SKIPPED                      | SKIPPED      |
+--------------------------+---------------------------+----------------+------------------------------+--------------+
| Debian 11 (Buster) (ARM) | SKIPPED                   | PASS           | SKIPPED                      | SKIPPED      |
+--------------------------+---------------------------+----------------+------------------------------+--------------+
| Fedora 38 (ARM)          | SKIPPED                   | PASS           | SKIPPED                      | SKIPPED      |
+--------------------------+---------------------------+----------------+------------------------------+--------------+
| Ubuntu 20.04 ARM SVE     | SKIPPED                   | SKIPPED        | SKIPPED                      | PASS         |
+--------------------------+---------------------------+----------------+------------------------------+--------------+


Debian 11 (arm)
	Kernel: Container Host Kernel
	Compiler: gcc 10.2.1

CentOS Stream 9 (ARM)
	Kernel: Container Host Kernel
	Compiler: gcc 11.3.1

Debian 11 (Buster) (ARM)
	Kernel: Container Host Kernel
	Compiler: gcc 10.2.1

Fedora 38 (ARM)
	Kernel: Depends on container host
	Compiler: gcc 13.1.1

Ubuntu 20.04 ARM SVE
	Kernel: 5.4.0-80-generic
	Compiler: gcc 10.3.0 (Ubuntu 10.3.0-1ubuntu1~20.04)

To view detailed results, visit:
https://lab.dpdk.org/results/dashboard/patchsets/28419/

UNH-IOL DPDK Community Lab

To manage your email subscriptions, visit: 
https://lab.dpdk.org/results/dashboard/preferences/subscriptions/


More information about the test-report mailing list