|SUCCESS| pw134483-134485 [PATCH] [v2,3/3] usertools/rss: add CNXK w

dpdklab at iol.unh.edu dpdklab at iol.unh.edu
Mon Nov 20 18:02:13 CET 2023


Test-Label: iol-unit-arm64-testing
Test-Status: SUCCESS
http://dpdk.org/patch/134485

_Testing PASS_

Submitter: Robin Jarry <rjarry at redhat.com>
Date: Monday, November 20 2023 16:22:59 
DPDK git baseline: Repo:dpdk
  Branch: master
  CommitID:b31898aeefb8ca312fa6a594b9fc583d5e23a8d8

134483-134485 --> testing pass

Test environment and result as below:

+-----------------------+------------------------------+---------------------------+----------------+
|      Environment      | cryptodev_sw_snow3g_autotest | cryptodev_sw_zuc_autotest | dpdk_unit_test |
+=======================+==============================+===========================+================+
| Debian 11 (arm)       | PASS                         | PASS                      | SKIPPED        |
+-----------------------+------------------------------+---------------------------+----------------+
| CentOS Stream 9 (ARM) | SKIPPED                      | SKIPPED                   | PASS           |
+-----------------------+------------------------------+---------------------------+----------------+


Debian 11 (arm)
	Kernel: Container Host Kernel
	Compiler: gcc 10.2.1

CentOS Stream 9 (ARM)
	Kernel: Container Host Kernel
	Compiler: gcc 11.3.1

To view detailed results, visit:
https://lab.dpdk.org/results/dashboard/patchsets/28421/

UNH-IOL DPDK Community Lab

To manage your email subscriptions, visit: 
https://lab.dpdk.org/results/dashboard/preferences/subscriptions/


More information about the test-report mailing list