|SUCCESS| pw134486 [PATCH] buildtools: allow reusing dpdk-cmdline-ge

dpdklab at iol.unh.edu dpdklab at iol.unh.edu
Mon Nov 20 20:29:03 CET 2023


Test-Label: iol-unit-arm64-testing
Test-Status: SUCCESS
http://dpdk.org/patch/134486

_Testing PASS_

Submitter: Robin Jarry <rjarry at redhat.com>
Date: Monday, November 20 2023 16:28:15 
DPDK git baseline: Repo:dpdk
  Branch: master
  CommitID:b31898aeefb8ca312fa6a594b9fc583d5e23a8d8

134486 --> testing pass

Test environment and result as below:

+----------------------+--------------+---------------------------+------------------------------+
|     Environment      | lpm_autotest | cryptodev_sw_zuc_autotest | cryptodev_sw_snow3g_autotest |
+======================+==============+===========================+==============================+
| Ubuntu 20.04 ARM SVE | PASS         | SKIPPED                   | SKIPPED                      |
+----------------------+--------------+---------------------------+------------------------------+
| Debian 11 (arm)      | SKIPPED      | PASS                      | PASS                         |
+----------------------+--------------+---------------------------+------------------------------+


Ubuntu 20.04 ARM SVE
	Kernel: 5.4.0-80-generic
	Compiler: gcc 10.3.0 (Ubuntu 10.3.0-1ubuntu1~20.04)

Debian 11 (arm)
	Kernel: Container Host Kernel
	Compiler: gcc 10.2.1

To view detailed results, visit:
https://lab.dpdk.org/results/dashboard/patchsets/28422/

UNH-IOL DPDK Community Lab

To manage your email subscriptions, visit: 
https://lab.dpdk.org/results/dashboard/preferences/subscriptions/


More information about the test-report mailing list