|SUCCESS| pw134507-134515 [PATCH] [24.03,v2,9/9] event/sw: add sched
dpdklab at iol.unh.edu
dpdklab at iol.unh.edu
Tue Nov 21 13:38:23 CET 2023
Test-Label: iol-unit-amd64-testing
Test-Status: SUCCESS
http://dpdk.org/patch/134515
_Testing PASS_
Submitter: Bruce Richardson <bruce.richardson at intel.com>
Date: Tuesday, November 21 2023 11:54:37
DPDK git baseline: Repo:dpdk
Branch: master
CommitID:517b4b26b508a6464d07c456c04eb48d6c7f03ea
134507-134515 --> testing pass
Test environment and result as below:
+---------------------+----------------+
| Environment | dpdk_unit_test |
+=====================+================+
| Windows Server 2019 | PASS |
+---------------------+----------------+
| CentOS Stream 8 | PASS |
+---------------------+----------------+
| Debian Bullseye | PASS |
+---------------------+----------------+
Windows Server 2019
Kernel: 10.0
Compiler: clang 14.0 and gcc 8.1.0 (MinGW)
CentOS Stream 8
Kernel: 4.18.0-240.10.1.el8_3.x86_64
Compiler: gcc 8.4.1 20200928
Debian Bullseye
Kernel: 5.4.0-122-generic
Compiler: gcc 10.2.1-6
To view detailed results, visit:
https://lab.dpdk.org/results/dashboard/patchsets/28427/
UNH-IOL DPDK Community Lab
To manage your email subscriptions, visit:
https://lab.dpdk.org/results/dashboard/preferences/subscriptions/
More information about the test-report
mailing list