|SUCCESS| [GIT MASTER] baaa446dd47ec05a93bb1843fc49791c8fa21697
dpdklab at iol.unh.edu
dpdklab at iol.unh.edu
Wed Nov 22 03:07:39 CET 2023
_Testing PASS_
Branch: dpdk
baaa446dd47ec05a93bb1843fc49791c8fa21697 --> testing pass
Test environment and result as below:
+-----------------------+---------------------------+------------------------------+----------------+
| Environment | cryptodev_sw_zuc_autotest | cryptodev_sw_snow3g_autotest | dpdk_unit_test |
+=======================+===========================+==============================+================+
| Debian 11 (arm) | PASS | PASS | SKIPPED |
+-----------------------+---------------------------+------------------------------+----------------+
| CentOS Stream 9 (ARM) | SKIPPED | SKIPPED | PASS |
+-----------------------+---------------------------+------------------------------+----------------+
Debian 11 (arm)
Kernel: Container Host Kernel
Compiler: gcc 10.2.1
CentOS Stream 9 (ARM)
Kernel: Container Host Kernel
Compiler: gcc 11.3.1
To view detailed results, visit:
https://lab.dpdk.org/results/dashboard/tarballs/27069/
UNH-IOL DPDK Community Lab
To manage your email subscriptions, visit:
https://lab.dpdk.org/results/dashboard/preferences/subscriptions/
More information about the test-report
mailing list