|SUCCESS| pw134525-134524 [PATCH] [2/2] app/testpmd: support set RSS
dpdklab at iol.unh.edu
dpdklab at iol.unh.edu
Wed Nov 22 12:01:59 CET 2023
Test-Label: iol-unit-arm64-testing
Test-Status: SUCCESS
http://dpdk.org/patch/134524
_Testing PASS_
Submitter: Jie Hai <haijie1 at huawei.com>
Date: Wednesday, November 22 2023 09:48:59
DPDK git baseline: Repo:dpdk
Branch: master
CommitID:baaa446dd47ec05a93bb1843fc49791c8fa21697
134525-134524 --> testing pass
Test environment and result as below:
+--------------------------+----------------+---------------------------+
| Environment | dpdk_unit_test | cryptodev_sw_zuc_autotest |
+==========================+================+===========================+
| Debian 11 (Buster) (ARM) | PASS | SKIPPED |
+--------------------------+----------------+---------------------------+
| Fedora 37 (ARM) | PASS | SKIPPED |
+--------------------------+----------------+---------------------------+
| CentOS Stream 9 (ARM) | PASS | SKIPPED |
+--------------------------+----------------+---------------------------+
| Debian 11 (arm) | SKIPPED | PASS |
+--------------------------+----------------+---------------------------+
Debian 11 (Buster) (ARM)
Kernel: Container Host Kernel
Compiler: gcc 10.2.1
Fedora 37 (ARM)
Kernel: Depends on container host
Compiler: gcc 12.3.1
CentOS Stream 9 (ARM)
Kernel: Container Host Kernel
Compiler: gcc 11.3.1
Debian 11 (arm)
Kernel: Container Host Kernel
Compiler: gcc 10.2.1
To view detailed results, visit:
https://lab.dpdk.org/results/dashboard/patchsets/28436/
UNH-IOL DPDK Community Lab
To manage your email subscriptions, visit:
https://lab.dpdk.org/results/dashboard/preferences/subscriptions/
More information about the test-report
mailing list