|SUCCESS| pw134533 [PATCH] [1/1] ml/cnxk: fix name of TVM model with

dpdklab at iol.unh.edu dpdklab at iol.unh.edu
Wed Nov 22 19:11:45 CET 2023


Test-Label: iol-unit-arm64-testing
Test-Status: SUCCESS
http://dpdk.org/patch/134533

_Testing PASS_

Submitter: Srikanth Yalavarthi <syalavarthi at marvell.com>
Date: Wednesday, November 22 2023 16:36:40 
DPDK git baseline: Repo:dpdk
  Branch: master
  CommitID:baaa446dd47ec05a93bb1843fc49791c8fa21697

134533 --> testing pass

Test environment and result as below:

+-----------------+------------------------------+---------------------------+----------------+
|   Environment   | cryptodev_sw_snow3g_autotest | cryptodev_sw_zuc_autotest | dpdk_unit_test |
+=================+==============================+===========================+================+
| Debian 11 (arm) | PASS                         | PASS                      | SKIPPED        |
+-----------------+------------------------------+---------------------------+----------------+
| Fedora 37 (ARM) | SKIPPED                      | SKIPPED                   | PASS           |
+-----------------+------------------------------+---------------------------+----------------+


Debian 11 (arm)
	Kernel: Container Host Kernel
	Compiler: gcc 10.2.1

Fedora 37 (ARM)
	Kernel: Depends on container host
	Compiler: gcc 12.3.1

To view detailed results, visit:
https://lab.dpdk.org/results/dashboard/patchsets/28440/

UNH-IOL DPDK Community Lab

To manage your email subscriptions, visit: 
https://lab.dpdk.org/results/dashboard/preferences/subscriptions/


More information about the test-report mailing list