|SUCCESS| pw134541 [PATCH] [v2,1/1] ml/cnxk: fix reading model and l
    dpdklab at iol.unh.edu 
    dpdklab at iol.unh.edu
       
    Wed Nov 22 20:34:14 CET 2023
    
    
  
Test-Label: iol-unit-arm64-testing
Test-Status: SUCCESS
http://dpdk.org/patch/134541
_Testing PASS_
Submitter: Srikanth Yalavarthi <syalavarthi at marvell.com>
Date: Wednesday, November 22 2023 18:35:59 
DPDK git baseline: Repo:dpdk
  Branch: master
  CommitID:baaa446dd47ec05a93bb1843fc49791c8fa21697
134541 --> testing pass
Test environment and result as below:
+--------------------------+----------------+--------------+------------------------------+---------------------------+
|       Environment        | dpdk_unit_test | lpm_autotest | cryptodev_sw_snow3g_autotest | cryptodev_sw_zuc_autotest |
+==========================+================+==============+==============================+===========================+
| Debian 11 (Buster) (ARM) | PASS           | SKIPPED      | SKIPPED                      | SKIPPED                   |
+--------------------------+----------------+--------------+------------------------------+---------------------------+
| Fedora 37 (ARM)          | PASS           | SKIPPED      | SKIPPED                      | SKIPPED                   |
+--------------------------+----------------+--------------+------------------------------+---------------------------+
| CentOS Stream 9 (ARM)    | PASS           | SKIPPED      | SKIPPED                      | SKIPPED                   |
+--------------------------+----------------+--------------+------------------------------+---------------------------+
| Ubuntu 20.04 (ARM)       | PASS           | SKIPPED      | SKIPPED                      | SKIPPED                   |
+--------------------------+----------------+--------------+------------------------------+---------------------------+
| Fedora 38 (ARM)          | PASS           | SKIPPED      | SKIPPED                      | SKIPPED                   |
+--------------------------+----------------+--------------+------------------------------+---------------------------+
| Ubuntu 20.04 ARM SVE     | SKIPPED        | PASS         | SKIPPED                      | SKIPPED                   |
+--------------------------+----------------+--------------+------------------------------+---------------------------+
| Debian 11 (arm)          | SKIPPED        | SKIPPED      | PASS                         | PASS                      |
+--------------------------+----------------+--------------+------------------------------+---------------------------+
Debian 11 (Buster) (ARM)
	Kernel: Container Host Kernel
	Compiler: gcc 10.2.1
Fedora 37 (ARM)
	Kernel: Depends on container host
	Compiler: gcc 12.3.1
CentOS Stream 9 (ARM)
	Kernel: Container Host Kernel
	Compiler: gcc 11.3.1
Ubuntu 20.04 (ARM)
	Kernel: Container Host Kernel
	Compiler: gcc 9.4.0
Fedora 38 (ARM)
	Kernel: Depends on container host
	Compiler: gcc 13.1.1
Ubuntu 20.04 ARM SVE
	Kernel: 5.4.0-80-generic
	Compiler: gcc 10.3.0 (Ubuntu 10.3.0-1ubuntu1~20.04)
Debian 11 (arm)
	Kernel: Container Host Kernel
	Compiler: gcc 10.2.1
To view detailed results, visit:
https://lab.dpdk.org/results/dashboard/patchsets/28445/
UNH-IOL DPDK Community Lab
To manage your email subscriptions, visit: 
https://lab.dpdk.org/results/dashboard/preferences/subscriptions/
    
    
More information about the test-report
mailing list