|SUCCESS| [GIT MASTER] 45cef8185a4fcb3aea4279711850c16e580b9a36
    dpdklab at iol.unh.edu 
    dpdklab at iol.unh.edu
       
    Fri Nov 24 07:57:39 CET 2023
    
    
  
_Testing PASS_
Branch: tags/v21.11
45cef8185a4fcb3aea4279711850c16e580b9a36 --> testing pass
Test environment and result as below:
+-----------------+----------+
|   Environment   | abi_test |
+=================+==========+
| Fedora 38       | PASS     |
+-----------------+----------+
| Fedora 37       | PASS     |
+-----------------+----------+
| CentOS Stream 9 | PASS     |
+-----------------+----------+
Fedora 38
	Kernel: Depends on container host
	Compiler: clang 16.0.3
Fedora 37
	Kernel: Depends on container host system
	Compiler: gcc 12.3.1
CentOS Stream 9
	Kernel: 4.18.0-240.10.1.el8_3.x86_64
	Compiler: gcc 11.3.1 20220421
To view detailed results, visit:
https://lab.dpdk.org/results/dashboard/tarballs/27108/
UNH-IOL DPDK Community Lab
To manage your email subscriptions, visit: 
https://lab.dpdk.org/results/dashboard/preferences/subscriptions/
    
    
More information about the test-report
mailing list