|SUCCESS| pw134604 [PATCH] [v2] maintainers: add mlx5 driver platfor
dpdklab at iol.unh.edu
dpdklab at iol.unh.edu
Fri Nov 24 11:16:05 CET 2023
Test-Label: iol-unit-amd64-testing
Test-Status: SUCCESS
http://dpdk.org/patch/134604
_Testing PASS_
Submitter: Dariusz Sosnowski <dsosnowski at nvidia.com>
Date: Friday, November 24 2023 09:35:18
DPDK git baseline: Repo:dpdk
Branch: master
CommitID:0e9dd79c90e907bcf69851434882f7877cdc3dd8
134604 --> testing pass
Test environment and result as below:
+-----------------+----------------+
| Environment | dpdk_unit_test |
+=================+================+
| Debian Buster | PASS |
+-----------------+----------------+
| CentOS Stream 8 | PASS |
+-----------------+----------------+
| Debian Bullseye | PASS |
+-----------------+----------------+
Debian Buster
Kernel: 5.4.0-122-generic
Compiler: gcc 8.3.0-6
CentOS Stream 8
Kernel: 4.18.0-240.10.1.el8_3.x86_64
Compiler: gcc 8.4.1 20200928
Debian Bullseye
Kernel: 5.4.0-122-generic
Compiler: gcc 10.2.1-6
To view detailed results, visit:
https://lab.dpdk.org/results/dashboard/patchsets/28466/
UNH-IOL DPDK Community Lab
To manage your email subscriptions, visit:
https://lab.dpdk.org/results/dashboard/preferences/subscriptions/
More information about the test-report
mailing list