|SUCCESS| pw134605 [PATCH] [v2] eal/linux: force iova-mode va withou

dpdklab at iol.unh.edu dpdklab at iol.unh.edu
Fri Nov 24 14:23:39 CET 2023


Test-Label: iol-unit-arm64-testing
Test-Status: SUCCESS
http://dpdk.org/patch/134605

_Testing PASS_

Submitter: Christian Ehrhardt <christian.ehrhardt at canonical.com>
Date: Friday, November 24 2023 10:09:04 
DPDK git baseline: Repo:dpdk
  Branch: master
  CommitID:0e9dd79c90e907bcf69851434882f7877cdc3dd8

134605 --> testing pass

Test environment and result as below:

+--------------------------+----------------+------------------------------+---------------------------+
|       Environment        | dpdk_unit_test | cryptodev_sw_snow3g_autotest | cryptodev_sw_zuc_autotest |
+==========================+================+==============================+===========================+
| Debian 11 (Buster) (ARM) | PASS           | SKIPPED                      | SKIPPED                   |
+--------------------------+----------------+------------------------------+---------------------------+
| CentOS Stream 9 (ARM)    | PASS           | SKIPPED                      | SKIPPED                   |
+--------------------------+----------------+------------------------------+---------------------------+
| Fedora 38 (ARM)          | PASS           | SKIPPED                      | SKIPPED                   |
+--------------------------+----------------+------------------------------+---------------------------+
| Fedora 37 (ARM)          | PASS           | SKIPPED                      | SKIPPED                   |
+--------------------------+----------------+------------------------------+---------------------------+
| Debian 11 (arm)          | SKIPPED        | PASS                         | PASS                      |
+--------------------------+----------------+------------------------------+---------------------------+


Debian 11 (Buster) (ARM)
	Kernel: Container Host Kernel
	Compiler: gcc 10.2.1

CentOS Stream 9 (ARM)
	Kernel: Container Host Kernel
	Compiler: gcc 11.3.1

Fedora 38 (ARM)
	Kernel: Depends on container host
	Compiler: gcc 13.1.1

Fedora 37 (ARM)
	Kernel: Depends on container host
	Compiler: gcc 12.3.1

Debian 11 (arm)
	Kernel: Container Host Kernel
	Compiler: gcc 10.2.1

To view detailed results, visit:
https://lab.dpdk.org/results/dashboard/patchsets/28467/

UNH-IOL DPDK Community Lab

To manage your email subscriptions, visit: 
https://lab.dpdk.org/results/dashboard/preferences/subscriptions/


More information about the test-report mailing list