|SUCCESS| pw134608 [PATCH] [v2] doc: update release notes for 23.11

dpdklab at iol.unh.edu dpdklab at iol.unh.edu
Fri Nov 24 17:04:44 CET 2023


Test-Label: iol-unit-arm64-testing
Test-Status: SUCCESS
http://dpdk.org/patch/134608

_Testing PASS_

Submitter: John McNamara <john.mcnamara at intel.com>
Date: Friday, November 24 2023 15:20:28 
DPDK git baseline: Repo:dpdk
  Branch: master
  CommitID:0e9dd79c90e907bcf69851434882f7877cdc3dd8

134608 --> testing pass

Test environment and result as below:

+--------------------------+----------------+
|       Environment        | dpdk_unit_test |
+==========================+================+
| Debian 11 (Buster) (ARM) | PASS           |
+--------------------------+----------------+
| Fedora 37 (ARM)          | PASS           |
+--------------------------+----------------+
| CentOS Stream 9 (ARM)    | PASS           |
+--------------------------+----------------+


Debian 11 (Buster) (ARM)
	Kernel: Container Host Kernel
	Compiler: gcc 10.2.1

Fedora 37 (ARM)
	Kernel: Depends on container host
	Compiler: gcc 12.3.1

CentOS Stream 9 (ARM)
	Kernel: Container Host Kernel
	Compiler: gcc 11.3.1

To view detailed results, visit:
https://lab.dpdk.org/results/dashboard/patchsets/28470/

UNH-IOL DPDK Community Lab

To manage your email subscriptions, visit: 
https://lab.dpdk.org/results/dashboard/preferences/subscriptions/


More information about the test-report mailing list