|SUCCESS| pw134624-134626 [PATCH] [v4,5/5] doc: add dump device priv

dpdklab at iol.unh.edu dpdklab at iol.unh.edu
Mon Nov 27 15:58:45 CET 2023


Test-Label: iol-unit-amd64-testing
Test-Status: SUCCESS
http://dpdk.org/patch/134626

_Testing PASS_

Submitter: Huisong Li <lihuisong at huawei.com>
Date: Monday, November 27 2023 14:16:59 
DPDK git baseline: Repo:dpdk
  Branch: master
  CommitID:4358da71b382d1015be7323e1b48d15e34f2562b

134624-134626 --> testing pass

Test environment and result as below:

+---------------------+----------------+
|     Environment     | dpdk_unit_test |
+=====================+================+
| CentOS Stream 9     | PASS           |
+---------------------+----------------+
| Debian Buster       | PASS           |
+---------------------+----------------+
| Windows Server 2019 | PASS           |
+---------------------+----------------+


CentOS Stream 9
	Kernel: 4.18.0-240.10.1.el8_3.x86_64
	Compiler: gcc 11.3.1 20220421

Debian Buster
	Kernel: 5.4.0-122-generic
	Compiler: gcc 8.3.0-6

Windows Server 2019
	Kernel: 10.0
	Compiler: clang 14.0 and gcc 8.1.0 (MinGW)

To view detailed results, visit:
https://lab.dpdk.org/results/dashboard/patchsets/28476/

UNH-IOL DPDK Community Lab

To manage your email subscriptions, visit: 
https://lab.dpdk.org/results/dashboard/preferences/subscriptions/


More information about the test-report mailing list