|SUCCESS| pw134622-134621 [PATCH] [3/3] net/hns3: fix the VF reset i
dpdklab at iol.unh.edu
dpdklab at iol.unh.edu
Mon Nov 27 16:34:39 CET 2023
Test-Label: iol-unit-amd64-testing
Test-Status: SUCCESS
http://dpdk.org/patch/134621
_Testing PASS_
Submitter: Dengdui Huang <huangdengdui at huawei.com>
Date: Monday, November 27 2023 13:39:03
DPDK git baseline: Repo:dpdk
Branch: master
CommitID:4358da71b382d1015be7323e1b48d15e34f2562b
134622-134621 --> testing pass
Test environment and result as below:
+---------------------+----------------+
| Environment | dpdk_unit_test |
+=====================+================+
| Windows Server 2019 | PASS |
+---------------------+----------------+
| CentOS Stream 8 | PASS |
+---------------------+----------------+
| CentOS Stream 9 | PASS |
+---------------------+----------------+
Windows Server 2019
Kernel: 10.0
Compiler: clang 14.0 and gcc 8.1.0 (MinGW)
CentOS Stream 8
Kernel: 4.18.0-240.10.1.el8_3.x86_64
Compiler: gcc 8.4.1 20200928
CentOS Stream 9
Kernel: 4.18.0-240.10.1.el8_3.x86_64
Compiler: gcc 11.3.1 20220421
To view detailed results, visit:
https://lab.dpdk.org/results/dashboard/patchsets/28475/
UNH-IOL DPDK Community Lab
To manage your email subscriptions, visit:
https://lab.dpdk.org/results/dashboard/preferences/subscriptions/
More information about the test-report
mailing list