|SUCCESS| pw134629 [PATCH] [v2] net/mlx5: fix index choosing in TAG 
    dpdklab at iol.unh.edu 
    dpdklab at iol.unh.edu
       
    Mon Nov 27 18:29:34 CET 2023
    
    
  
Test-Label: iol-unit-arm64-testing
Test-Status: SUCCESS
http://dpdk.org/patch/134629
_Testing PASS_
Submitter: Michael Baum <michaelba at nvidia.com>
Date: Monday, November 27 2023 16:01:02 
DPDK git baseline: Repo:dpdk
  Branch: master
  CommitID:4358da71b382d1015be7323e1b48d15e34f2562b
134629 --> testing pass
Test environment and result as below:
+--------------------------+----------------+--------------+
|       Environment        | dpdk_unit_test | lpm_autotest |
+==========================+================+==============+
| Fedora 38 (ARM Clang)    | PASS           | SKIPPED      |
+--------------------------+----------------+--------------+
| Debian 11 (Buster) (ARM) | PASS           | SKIPPED      |
+--------------------------+----------------+--------------+
| Ubuntu 20.04 ARM SVE     | SKIPPED        | PASS         |
+--------------------------+----------------+--------------+
Fedora 38 (ARM Clang)
	Kernel: Depends on container host
	Compiler: clang 16.0.3
Debian 11 (Buster) (ARM)
	Kernel: Container Host Kernel
	Compiler: gcc 10.2.1
Ubuntu 20.04 ARM SVE
	Kernel: 5.4.0-80-generic
	Compiler: gcc 10.3.0 (Ubuntu 10.3.0-1ubuntu1~20.04)
To view detailed results, visit:
https://lab.dpdk.org/results/dashboard/patchsets/28478/
UNH-IOL DPDK Community Lab
To manage your email subscriptions, visit: 
https://lab.dpdk.org/results/dashboard/preferences/subscriptions/
    
    
More information about the test-report
mailing list