|SUCCESS| pw134630 [PATCH] [v2] raw/cnxk_bphy: switch to dynamic log
dpdklab at iol.unh.edu
dpdklab at iol.unh.edu
Mon Nov 27 19:47:33 CET 2023
Test-Label: iol-compile-amd64-testing
Test-Status: SUCCESS
http://dpdk.org/patch/134630
_Testing PASS_
Submitter: Tomasz Duszynski <tduszynski at marvell.com>
Date: Monday, November 27 2023 18:11:51
DPDK git baseline: Repo:dpdk
Branch: master
CommitID:4358da71b382d1015be7323e1b48d15e34f2562b
134630 --> testing pass
Test environment and result as below:
+---------------------+--------------------+
| Environment | dpdk_meson_compile |
+=====================+====================+
| CentOS Stream 9 | PASS |
+---------------------+--------------------+
| Debian Bullseye | PASS |
+---------------------+--------------------+
| Debian Buster | PASS |
+---------------------+--------------------+
| Windows Server 2022 | PASS |
+---------------------+--------------------+
| FreeBSD 13 | PASS |
+---------------------+--------------------+
| openSUSE Leap 15 | PASS |
+---------------------+--------------------+
| RHEL8 | PASS |
+---------------------+--------------------+
CentOS Stream 9
Kernel: 4.18.0-240.10.1.el8_3.x86_64
Compiler: gcc 11.3.1 20220421
Debian Bullseye
Kernel: 5.4.0-122-generic
Compiler: gcc 10.2.1-6
Debian Buster
Kernel: 5.4.0-122-generic
Compiler: gcc 8.3.0-6
Windows Server 2022
Kernel: OS Build 20348.2031
Compiler: MSVC VS-Preview
FreeBSD 13
Kernel: 13.0
Compiler: clang 11.0.1
openSUSE Leap 15
Kernel: 4.18.0-240.10.1.el8_3.x86_64
Compiler: gcc 7.5.0
RHEL8
Kernel: 4.18.0-240.10.1.el8_3.x86_64
Compiler: gcc 8.3.1 20191121 (Red Hat 8.3.1-5)
To view detailed results, visit:
https://lab.dpdk.org/results/dashboard/patchsets/28479/
UNH-IOL DPDK Community Lab
To manage your email subscriptions, visit:
https://lab.dpdk.org/results/dashboard/preferences/subscriptions/
More information about the test-report
mailing list