|SUCCESS| pw134630 [PATCH] [v2] raw/cnxk_bphy: switch to dynamic log
dpdklab at iol.unh.edu
dpdklab at iol.unh.edu
Mon Nov 27 20:07:24 CET 2023
Test-Label: iol-unit-arm64-testing
Test-Status: SUCCESS
http://dpdk.org/patch/134630
_Testing PASS_
Submitter: Tomasz Duszynski <tduszynski at marvell.com>
Date: Monday, November 27 2023 18:11:51
DPDK git baseline: Repo:dpdk
Branch: master
CommitID:4358da71b382d1015be7323e1b48d15e34f2562b
134630 --> testing pass
Test environment and result as below:
+----------------------+------------------------------+--------------+---------------------------+
| Environment | cryptodev_sw_snow3g_autotest | lpm_autotest | cryptodev_sw_zuc_autotest |
+======================+==============================+==============+===========================+
| Debian 11 (arm) | PASS | SKIPPED | PASS |
+----------------------+------------------------------+--------------+---------------------------+
| Ubuntu 20.04 ARM SVE | SKIPPED | PASS | SKIPPED |
+----------------------+------------------------------+--------------+---------------------------+
Debian 11 (arm)
Kernel: Container Host Kernel
Compiler: gcc 10.2.1
Ubuntu 20.04 ARM SVE
Kernel: 5.4.0-80-generic
Compiler: gcc 10.3.0 (Ubuntu 10.3.0-1ubuntu1~20.04)
To view detailed results, visit:
https://lab.dpdk.org/results/dashboard/patchsets/28479/
UNH-IOL DPDK Community Lab
To manage your email subscriptions, visit:
https://lab.dpdk.org/results/dashboard/preferences/subscriptions/
More information about the test-report
mailing list