|SUCCESS| [GIT MASTER] 3b3af56d3c9c472f9ba0ee1078d714919cc2b6b4

dpdklab at iol.unh.edu dpdklab at iol.unh.edu
Tue Nov 28 03:06:49 CET 2023


_Testing PASS_

Branch: dpdk

3b3af56d3c9c472f9ba0ee1078d714919cc2b6b4 --> testing pass

Test environment and result as below:

+-----------------------+------------------------------+---------------------------+----------------+
|      Environment      | cryptodev_sw_snow3g_autotest | cryptodev_sw_zuc_autotest | dpdk_unit_test |
+=======================+==============================+===========================+================+
| Debian 11 (arm)       | PASS                         | PASS                      | SKIPPED        |
+-----------------------+------------------------------+---------------------------+----------------+
| CentOS Stream 9 (ARM) | SKIPPED                      | SKIPPED                   | PASS           |
+-----------------------+------------------------------+---------------------------+----------------+
| Fedora 38 (ARM)       | SKIPPED                      | SKIPPED                   | PASS           |
+-----------------------+------------------------------+---------------------------+----------------+


Debian 11 (arm)
	Kernel: Container Host Kernel
	Compiler: gcc 10.2.1

CentOS Stream 9 (ARM)
	Kernel: Container Host Kernel
	Compiler: gcc 11.3.1

Fedora 38 (ARM)
	Kernel: Depends on container host
	Compiler: gcc 13.1.1

To view detailed results, visit:
https://lab.dpdk.org/results/dashboard/tarballs/27136/

UNH-IOL DPDK Community Lab

To manage your email subscriptions, visit: 
https://lab.dpdk.org/results/dashboard/preferences/subscriptions/


More information about the test-report mailing list