|SUCCESS| [GIT MASTER] eeb0605f118dae66e80faa44f7b3e88748032353

dpdklab at iol.unh.edu dpdklab at iol.unh.edu
Thu Nov 30 03:17:22 CET 2023


_Testing PASS_

Branch: dpdk

eeb0605f118dae66e80faa44f7b3e88748032353 --> testing pass

Test environment and result as below:

+-----------------+----------------+
|   Environment   | dpdk_unit_test |
+=================+================+
| CentOS Stream 8 | PASS           |
+-----------------+----------------+
| CentOS Stream 9 | PASS           |
+-----------------+----------------+
| Arch Linux      | PASS           |
+-----------------+----------------+


CentOS Stream 8
	Kernel: 4.18.0-240.10.1.el8_3.x86_64
	Compiler: gcc 8.4.1 20200928

CentOS Stream 9
	Kernel: 4.18.0-240.10.1.el8_3.x86_64
	Compiler: gcc 11.3.1 20220421

Arch Linux
	Kernel: 5.4.0-73-generic
	Compiler: gcc 11.1.0

To view detailed results, visit:
https://lab.dpdk.org/results/dashboard/tarballs/27159/

UNH-IOL DPDK Community Lab

To manage your email subscriptions, visit: 
https://lab.dpdk.org/results/dashboard/preferences/subscriptions/


More information about the test-report mailing list