|SUCCESS| pw134739 [PATCH] [v4] eal: verify mmu type for DPDK suppor
dpdklab at iol.unh.edu
dpdklab at iol.unh.edu
Thu Nov 30 22:11:25 CET 2023
Test-Label: iol-unit-arm64-testing
Test-Status: SUCCESS
http://dpdk.org/patch/134739
_Testing PASS_
Submitter: David Christensen <drc at linux.vnet.ibm.com>
Date: Thursday, November 30 2023 19:18:44
DPDK git baseline: Repo:dpdk
Branch: master
CommitID:eeb0605f118dae66e80faa44f7b3e88748032353
134739 --> testing pass
Test environment and result as below:
+-----------------------+------------------------------+---------------------------+----------------+
| Environment | cryptodev_sw_snow3g_autotest | cryptodev_sw_zuc_autotest | dpdk_unit_test |
+=======================+==============================+===========================+================+
| Debian 11 (arm) | PASS | PASS | SKIPPED |
+-----------------------+------------------------------+---------------------------+----------------+
| CentOS Stream 9 (ARM) | SKIPPED | SKIPPED | PASS |
+-----------------------+------------------------------+---------------------------+----------------+
| Fedora 37 (ARM) | SKIPPED | SKIPPED | PASS |
+-----------------------+------------------------------+---------------------------+----------------+
Debian 11 (arm)
Kernel: Container Host Kernel
Compiler: gcc 10.2.1
CentOS Stream 9 (ARM)
Kernel: Container Host Kernel
Compiler: gcc 11.3.1
Fedora 37 (ARM)
Kernel: Depends on container host
Compiler: gcc 12.3.1
To view detailed results, visit:
https://lab.dpdk.org/results/dashboard/patchsets/28505/
UNH-IOL DPDK Community Lab
To manage your email subscriptions, visit:
https://lab.dpdk.org/results/dashboard/preferences/subscriptions/
More information about the test-report
mailing list