|SUCCESS| [GIT MASTER] 799d56f1192d72872e63fbb3d2c7f776b7ae89b0
dpdklab at iol.unh.edu
dpdklab at iol.unh.edu
Sun Sep 3 03:01:08 CEST 2023
_Testing PASS_
Branch: dpdk
799d56f1192d72872e63fbb3d2c7f776b7ae89b0 --> testing pass
Test environment and result as below:
+-----------------+----------------+
| Environment | dpdk_unit_test |
+=================+================+
| CentOS Stream 9 | PASS |
+-----------------+----------------+
| Debian Buster | PASS |
+-----------------+----------------+
| Debian Bullseye | PASS |
+-----------------+----------------+
| CentOS Stream 8 | PASS |
+-----------------+----------------+
CentOS Stream 9
Kernel: 4.18.0-240.10.1.el8_3.x86_64
Compiler: gcc 11.3.1 20220421
Debian Buster
Kernel: 5.4.0-122-generic
Compiler: gcc 8.3.0-6
Debian Bullseye
Kernel: 5.4.0-122-generic
Compiler: gcc 10.2.1-6
CentOS Stream 8
Kernel: 4.18.0-240.10.1.el8_3.x86_64
Compiler: gcc 8.4.1 20200928
To view detailed results, visit:
https://lab.dpdk.org/results/dashboard/tarballs/26017/
UNH-IOL DPDK Community Lab
To manage your email subscriptions, visit:
https://lab.dpdk.org/results/dashboard/preferences/subscriptions/
More information about the test-report
mailing list