|SUCCESS| pw131146 [PATCH] mempool: add cache guard to per-lcore deb
dpdklab at iol.unh.edu
dpdklab at iol.unh.edu
Mon Sep 4 13:07:11 CEST 2023
Test-Label: iol-compile-arm64-testing
Test-Status: SUCCESS
http://dpdk.org/patch/131146
_Testing PASS_
Submitter: Morten Brorup <mb at smartsharesystems.com>
Date: Monday, September 04 2023 09:10:20
DPDK git baseline: Repo:dpdk
Branch: master
CommitID:799d56f1192d72872e63fbb3d2c7f776b7ae89b0
131146 --> testing pass
Test environment and result as below:
+----------------------------------------+--------------------+
| Environment | dpdk_meson_compile |
+========================================+====================+
| Ubuntu 20.04 ARM SVE | PASS |
+----------------------------------------+--------------------+
| Ubuntu 20.04 aarch32 GCC Cross Compile | PASS |
+----------------------------------------+--------------------+
| Ubuntu 20.04 ARM Clang Cross Compile | PASS |
+----------------------------------------+--------------------+
| Ubuntu 20.04 ARM GCC Cross Compile | PASS |
+----------------------------------------+--------------------+
| Fedora 38 (ARM Clang) | PASS |
+----------------------------------------+--------------------+
Ubuntu 20.04 ARM SVE
Kernel: 5.4.0-80-generic
Compiler: gcc 10.3.0 (Ubuntu 10.3.0-1ubuntu1~20.04)
Ubuntu 20.04 aarch32 GCC Cross Compile
Kernel: 5.4.0-72-generic
Compiler: gcc 9.3.0
Ubuntu 20.04 ARM Clang Cross Compile
Kernel: 5.4.0-72-generic
Compiler: clang version 10.0.0-4ubuntu1
Ubuntu 20.04 ARM GCC Cross Compile
Kernel: 5.4.0-72-generic
Compiler: aarch64-linux-gnu-gcc (Ubuntu 9.3.0-17ubuntu1~20.04) 9.3.0
Fedora 38 (ARM Clang)
Kernel: Depends on container host
Compiler: clang 16.0.3
To view detailed results, visit:
https://lab.dpdk.org/results/dashboard/patchsets/27517/
UNH-IOL DPDK Community Lab
To manage your email subscriptions, visit:
https://lab.dpdk.org/results/dashboard/preferences/subscriptions/
More information about the test-report
mailing list