|SUCCESS| [GIT MASTER] a05350d45166e15ac040b2bf5f310b66f0dbf7c9
dpdklab at iol.unh.edu
dpdklab at iol.unh.edu
Mon Sep 4 20:24:23 CEST 2023
_Testing PASS_
Branch: dpdk-next-net
a05350d45166e15ac040b2bf5f310b66f0dbf7c9 --> testing pass
Test environment and result as below:
+-----------------+--------------------+
| Environment | dpdk_meson_compile |
+=================+====================+
| FreeBSD 13 | PASS |
+-----------------+--------------------+
| Fedora 37 | PASS |
+-----------------+--------------------+
| Ubuntu 22.04 | PASS |
+-----------------+--------------------+
| CentOS Stream 9 | PASS |
+-----------------+--------------------+
| CentOS Stream 8 | PASS |
+-----------------+--------------------+
FreeBSD 13
Kernel: 13.0
Compiler: clang 11.0.1
Fedora 37
Kernel: Depends on container host system
Compiler: gcc 12.3.1
Ubuntu 22.04
Kernel: 4.18.0-240.10.1.el8_3.x86_64
Compiler: gcc 11.3.0
CentOS Stream 9
Kernel: 4.18.0-240.10.1.el8_3.x86_64
Compiler: gcc 11.3.1 20220421
CentOS Stream 8
Kernel: 4.18.0-240.10.1.el8_3.x86_64
Compiler: gcc 8.4.1 20200928
To view detailed results, visit:
https://lab.dpdk.org/results/dashboard/tarballs/26031/
UNH-IOL DPDK Community Lab
To manage your email subscriptions, visit:
https://lab.dpdk.org/results/dashboard/preferences/subscriptions/
More information about the test-report
mailing list