|SUCCESS| pw131163 [PATCH] malloc: fix allocation for a specific cas

dpdklab at iol.unh.edu dpdklab at iol.unh.edu
Tue Sep 5 10:37:46 CEST 2023


Test-Label: iol-compile-amd64-testing
Test-Status: SUCCESS
http://dpdk.org/patch/131163

_Testing PASS_

Submitter: Artur Paszkiewicz <artur.paszkiewicz at intel.com>
Date: Monday, September 04 2023 14:24:32 
DPDK git baseline: Repo:dpdk
  Branch: master
  CommitID:799d56f1192d72872e63fbb3d2c7f776b7ae89b0

131163 --> testing pass

Test environment and result as below:

+-----------------+--------------------+
|   Environment   | dpdk_meson_compile |
+=================+====================+
| FreeBSD 13      | PASS               |
+-----------------+--------------------+
| Debian Bullseye | PASS               |
+-----------------+--------------------+
| CentOS Stream 8 | PASS               |
+-----------------+--------------------+
| Debian Buster   | PASS               |
+-----------------+--------------------+
| Fedora 37       | PASS               |
+-----------------+--------------------+


FreeBSD 13
	Kernel: 13.0
	Compiler: clang 11.0.1

Debian Bullseye
	Kernel: 5.4.0-122-generic
	Compiler: gcc 10.2.1-6

CentOS Stream 8
	Kernel: 4.18.0-240.10.1.el8_3.x86_64
	Compiler: gcc 8.4.1 20200928

Debian Buster
	Kernel: 5.4.0-122-generic
	Compiler: gcc 8.3.0-6

Fedora 37
	Kernel: Depends on container host system
	Compiler: gcc 12.3.1

To view detailed results, visit:
https://lab.dpdk.org/results/dashboard/patchsets/27524/

UNH-IOL DPDK Community Lab

To manage your email subscriptions, visit: 
https://lab.dpdk.org/results/dashboard/preferences/subscriptions/


More information about the test-report mailing list