|SUCCESS| pw131254-131259 [PATCH] [v4,7/7] app/testpmd: add RSS hash
dpdklab at iol.unh.edu
dpdklab at iol.unh.edu
Fri Sep 8 19:08:13 CEST 2023
Test-Label: iol-compile-amd64-testing
Test-Status: SUCCESS
http://dpdk.org/patch/131259
_Testing PASS_
Submitter: Jie Hai <haijie1 at huawei.com>
Date: Friday, September 08 2023 08:00:29
DPDK git baseline: Repo:dpdk
Branch: master
CommitID:e92ba1426914db1d224dd5e9a1743657681b8814
131254-131259 --> testing pass
Test environment and result as below:
+---------------------+--------------------+----------------------+
| Environment | dpdk_meson_compile | dpdk_mingw64_compile |
+=====================+====================+======================+
| Windows Server 2019 | PASS | PASS |
+---------------------+--------------------+----------------------+
| FreeBSD 13 | PASS | SKIPPED |
+---------------------+--------------------+----------------------+
Windows Server 2019
Kernel: 10.0
Compiler: clang 14.0 and gcc 8.1.0 (MinGW)
FreeBSD 13
Kernel: 13.0
Compiler: clang 11.0.1
To view detailed results, visit:
https://lab.dpdk.org/results/dashboard/patchsets/27555/
UNH-IOL DPDK Community Lab
To manage your email subscriptions, visit:
https://lab.dpdk.org/results/dashboard/preferences/subscriptions/
More information about the test-report
mailing list