|SUCCESS| pw131249 [PATCH] [v2] ethdev: add TCP/IP modify field IDs
dpdklab at iol.unh.edu
dpdklab at iol.unh.edu
Fri Sep 8 19:51:17 CEST 2023
Test-Label: iol-compile-amd64-testing
Test-Status: SUCCESS
http://dpdk.org/patch/131249
_Testing PASS_
Submitter: Suanming Mou <suanmingm at nvidia.com>
Date: Friday, September 08 2023 03:49:41
DPDK git baseline: Repo:dpdk
Branch: master
CommitID:e92ba1426914db1d224dd5e9a1743657681b8814
131249 --> testing pass
Test environment and result as below:
+---------------------+--------------------+----------------------+
| Environment | dpdk_meson_compile | dpdk_mingw64_compile |
+=====================+====================+======================+
| FreeBSD 13 | PASS | SKIPPED |
+---------------------+--------------------+----------------------+
| Windows Server 2019 | PASS | PASS |
+---------------------+--------------------+----------------------+
FreeBSD 13
Kernel: 13.0
Compiler: clang 11.0.1
Windows Server 2019
Kernel: 10.0
Compiler: clang 14.0 and gcc 8.1.0 (MinGW)
To view detailed results, visit:
https://lab.dpdk.org/results/dashboard/patchsets/27553/
UNH-IOL DPDK Community Lab
To manage your email subscriptions, visit:
https://lab.dpdk.org/results/dashboard/preferences/subscriptions/
More information about the test-report
mailing list