|SUCCESS| [GIT MASTER] e92ba1426914db1d224dd5e9a1743657681b8814
dpdklab at iol.unh.edu
dpdklab at iol.unh.edu
Mon Sep 11 02:57:17 CEST 2023
_Testing PASS_
Branch: dpdk
e92ba1426914db1d224dd5e9a1743657681b8814 --> testing pass
Test environment and result as below:
+-----------------+--------------------+
| Environment | dpdk_meson_compile |
+=================+====================+
| FreeBSD 13 | PASS |
+-----------------+--------------------+
| CentOS Stream 9 | PASS |
+-----------------+--------------------+
| Fedora 38 | PASS |
+-----------------+--------------------+
FreeBSD 13
Kernel: 13.0
Compiler: clang 11.0.1
CentOS Stream 9
Kernel: 4.18.0-240.10.1.el8_3.x86_64
Compiler: gcc 11.3.1 20220421
Fedora 38
Kernel: Depends on container host
Compiler: gcc 13.1.1
To view detailed results, visit:
https://lab.dpdk.org/results/dashboard/tarballs/26088/
UNH-IOL DPDK Community Lab
To manage your email subscriptions, visit:
https://lab.dpdk.org/results/dashboard/preferences/subscriptions/
More information about the test-report
mailing list