|SUCCESS| pw131331 [PATCH] [v2] malloc: fix allocation for a specifi
dpdklab at iol.unh.edu
dpdklab at iol.unh.edu
Mon Sep 11 14:26:11 CEST 2023
Test-Label: iol-compile-arm64-testing
Test-Status: SUCCESS
http://dpdk.org/patch/131331
_Testing PASS_
Submitter: Artur Paszkiewicz <artur.paszkiewicz at intel.com>
Date: Monday, September 11 2023 08:09:53
DPDK git baseline: Repo:dpdk
Branch: master
CommitID:e92ba1426914db1d224dd5e9a1743657681b8814
131331 --> testing pass
Test environment and result as below:
+----------------------+--------------------+
| Environment | dpdk_meson_compile |
+======================+====================+
| Ubuntu 20.04 ARM SVE | PASS |
+----------------------+--------------------+
| Ubuntu 20.04 (ARM) | PASS |
+----------------------+--------------------+
| Fedora 38 (ARM) | PASS |
+----------------------+--------------------+
Ubuntu 20.04 ARM SVE
Kernel: 5.4.0-80-generic
Compiler: gcc 10.3.0 (Ubuntu 10.3.0-1ubuntu1~20.04)
Ubuntu 20.04 (ARM)
Kernel: Container Host Kernel
Compiler: gcc 9.4.0
Fedora 38 (ARM)
Kernel: Depends on container host
Compiler: gcc 13.1.1
To view detailed results, visit:
https://lab.dpdk.org/results/dashboard/patchsets/27571/
UNH-IOL DPDK Community Lab
To manage your email subscriptions, visit:
https://lab.dpdk.org/results/dashboard/preferences/subscriptions/
More information about the test-report
mailing list