|SUCCESS| pw131561 [PATCH] eventdev/eth_rx: fix timestamp field regi
dpdklab at iol.unh.edu
dpdklab at iol.unh.edu
Mon Sep 18 11:19:41 CEST 2023
Test-Label: iol-unit-arm64-testing
Test-Status: SUCCESS
http://dpdk.org/patch/131561
_Testing PASS_
Submitter: Rahul Bhansali <rbhansali at marvell.com>
Date: Monday, September 18 2023 08:25:53
DPDK git baseline: Repo:dpdk
Branch: master
CommitID:d83fb967212efa19d272e7fa65d17c9ad94b17c1
131561 --> testing pass
Test environment and result as below:
+----------------------+------------------------------+---------------------------+--------------+
| Environment | cryptodev_sw_snow3g_autotest | cryptodev_sw_zuc_autotest | lpm_autotest |
+======================+==============================+===========================+==============+
| Debian 11 (arm) | PASS | PASS | SKIPPED |
+----------------------+------------------------------+---------------------------+--------------+
| Ubuntu 20.04 ARM SVE | SKIPPED | SKIPPED | PASS |
+----------------------+------------------------------+---------------------------+--------------+
Debian 11 (arm)
Kernel: Container Host Kernel
Compiler: gcc 10.2.1
Ubuntu 20.04 ARM SVE
Kernel: 5.4.0-80-generic
Compiler: gcc 10.3.0 (Ubuntu 10.3.0-1ubuntu1~20.04)
To view detailed results, visit:
https://lab.dpdk.org/results/dashboard/patchsets/27629/
UNH-IOL DPDK Community Lab
To manage your email subscriptions, visit:
https://lab.dpdk.org/results/dashboard/preferences/subscriptions/
More information about the test-report
mailing list