|SUCCESS| pw131712-131724 [PATCH] [13/13] net/nfp: cleanup the inclu

dpdklab at iol.unh.edu dpdklab at iol.unh.edu
Wed Sep 20 16:32:34 CEST 2023


Test-Label: iol-compile-arm64-testing
Test-Status: SUCCESS
http://dpdk.org/patch/131724

_Testing PASS_

Submitter: Chaoyong He <chaoyong.he at corigine.com>
Date: Wednesday, September 20 2023 11:34:54 
DPDK git baseline: Repo:dpdk-next-net
  Branch: master
  CommitID:a4e700a878e7fa2651fd718e61f7228c3277e556

131712-131724 --> testing pass

Test environment and result as below:

+----------------------------------------+--------------------+
|              Environment               | dpdk_meson_compile |
+========================================+====================+
| Ubuntu 20.04 ARM SVE                   | PASS               |
+----------------------------------------+--------------------+
| Ubuntu 20.04 (ARM)                     | PASS               |
+----------------------------------------+--------------------+
| Fedora 38 (ARM)                        | PASS               |
+----------------------------------------+--------------------+
| Debian 11 (Buster) (ARM)               | PASS               |
+----------------------------------------+--------------------+
| CentOS Stream 9 (ARM)                  | PASS               |
+----------------------------------------+--------------------+
| Ubuntu 20.04 aarch32 GCC Cross Compile | PASS               |
+----------------------------------------+--------------------+


Ubuntu 20.04 ARM SVE
	Kernel: 5.4.0-80-generic
	Compiler: gcc 10.3.0 (Ubuntu 10.3.0-1ubuntu1~20.04)

Ubuntu 20.04 (ARM)
	Kernel: Container Host Kernel
	Compiler: gcc 9.4.0

Fedora 38 (ARM)
	Kernel: Depends on container host
	Compiler: gcc 13.1.1

Debian 11 (Buster) (ARM)
	Kernel: Container Host Kernel
	Compiler: gcc 10.2.1

CentOS Stream 9 (ARM)
	Kernel: Container Host Kernel
	Compiler: gcc 11.3.1

Ubuntu 20.04 aarch32 GCC Cross Compile
	Kernel: 5.4.0-72-generic
	Compiler: gcc 9.3.0

To view detailed results, visit:
https://lab.dpdk.org/results/dashboard/patchsets/27667/

UNH-IOL DPDK Community Lab

To manage your email subscriptions, visit: 
https://lab.dpdk.org/results/dashboard/preferences/subscriptions/


More information about the test-report mailing list