|SUCCESS| pw131712-131724 [PATCH] [13/13] net/nfp: cleanup the inclu
dpdklab at iol.unh.edu
dpdklab at iol.unh.edu
Wed Sep 20 17:27:30 CEST 2023
Test-Label: iol-unit-arm64-testing
Test-Status: SUCCESS
http://dpdk.org/patch/131724
_Testing PASS_
Submitter: Chaoyong He <chaoyong.he at corigine.com>
Date: Wednesday, September 20 2023 11:34:54
DPDK git baseline: Repo:dpdk-next-net
Branch: master
CommitID:a4e700a878e7fa2651fd718e61f7228c3277e556
131712-131724 --> testing pass
Test environment and result as below:
+----------------------+---------------------------+------------------------------+--------------+
| Environment | cryptodev_sw_zuc_autotest | cryptodev_sw_snow3g_autotest | lpm_autotest |
+======================+===========================+==============================+==============+
| Debian 11 (arm) | PASS | PASS | SKIPPED |
+----------------------+---------------------------+------------------------------+--------------+
| Ubuntu 20.04 ARM SVE | SKIPPED | SKIPPED | PASS |
+----------------------+---------------------------+------------------------------+--------------+
Debian 11 (arm)
Kernel: Container Host Kernel
Compiler: gcc 10.2.1
Ubuntu 20.04 ARM SVE
Kernel: 5.4.0-80-generic
Compiler: gcc 10.3.0 (Ubuntu 10.3.0-1ubuntu1~20.04)
To view detailed results, visit:
https://lab.dpdk.org/results/dashboard/patchsets/27667/
UNH-IOL DPDK Community Lab
To manage your email subscriptions, visit:
https://lab.dpdk.org/results/dashboard/preferences/subscriptions/
More information about the test-report
mailing list