|SUCCESS| [GIT MASTER] 31e60e81f025e9fffa69b68bffe5cfaa22d5c098
dpdklab at iol.unh.edu
dpdklab at iol.unh.edu
Thu Sep 21 03:09:02 CEST 2023
_Testing PASS_
Branch: dpdk
31e60e81f025e9fffa69b68bffe5cfaa22d5c098 --> testing pass
Test environment and result as below:
+-----------------------+--------------------+
| Environment | dpdk_meson_compile |
+=======================+====================+
| Ubuntu 20.04 ARM SVE | PASS |
+-----------------------+--------------------+
| Fedora 37 (ARM) | PASS |
+-----------------------+--------------------+
| CentOS Stream 9 (ARM) | PASS |
+-----------------------+--------------------+
Ubuntu 20.04 ARM SVE
Kernel: 5.4.0-80-generic
Compiler: gcc 10.3.0 (Ubuntu 10.3.0-1ubuntu1~20.04)
Fedora 37 (ARM)
Kernel: Depends on container host
Compiler: gcc 12.3.1
CentOS Stream 9 (ARM)
Kernel: Container Host Kernel
Compiler: gcc 11.3.1
To view detailed results, visit:
https://lab.dpdk.org/results/dashboard/tarballs/26187/
UNH-IOL DPDK Community Lab
To manage your email subscriptions, visit:
https://lab.dpdk.org/results/dashboard/preferences/subscriptions/
More information about the test-report
mailing list