|SUCCESS| pw131760 [PATCH] [v1] common/cnxk: fix initialization of M
dpdklab at iol.unh.edu
dpdklab at iol.unh.edu
Thu Sep 21 10:30:45 CEST 2023
Test-Label: iol-compile-amd64-testing
Test-Status: SUCCESS
http://dpdk.org/patch/131760
_Testing PASS_
Submitter: Ankur Dwivedi <adwivedi at marvell.com>
Date: Thursday, September 21 2023 07:46:37
DPDK git baseline: Repo:dpdk-next-net-mrvl
Branch: master
CommitID:5558508c40dae22ffb3d71ad8444706cea672b85
131760 --> testing pass
Test environment and result as below:
+---------------------+--------------------+----------------------+
| Environment | dpdk_meson_compile | dpdk_mingw64_compile |
+=====================+====================+======================+
| FreeBSD 13 | PASS | SKIPPED |
+---------------------+--------------------+----------------------+
| Windows Server 2019 | PASS | PASS |
+---------------------+--------------------+----------------------+
FreeBSD 13
Kernel: 13.0
Compiler: clang 11.0.1
Windows Server 2019
Kernel: 10.0
Compiler: clang 14.0 and gcc 8.1.0 (MinGW)
To view detailed results, visit:
https://lab.dpdk.org/results/dashboard/patchsets/27680/
UNH-IOL DPDK Community Lab
To manage your email subscriptions, visit:
https://lab.dpdk.org/results/dashboard/preferences/subscriptions/
More information about the test-report
mailing list