|SUCCESS| pw131808-131814 [PATCH] [v2,7/7] baseband/acc: add configu
dpdklab at iol.unh.edu
dpdklab at iol.unh.edu
Thu Sep 21 23:37:45 CEST 2023
Test-Label: iol-unit-arm64-testing
Test-Status: SUCCESS
http://dpdk.org/patch/131814
_Testing PASS_
Submitter: Nicolas Chautru <nicolas.chautru at intel.com>
Date: Thursday, September 21 2023 20:43:49
DPDK git baseline: Repo:dpdk-next-baseband
Branch: master
CommitID:fbafb3676c482dab60c0b5465b47f2ea33893a36
131808-131814 --> testing pass
Test environment and result as below:
+----------------------+---------------------------+------------------------------+--------------+
| Environment | cryptodev_sw_zuc_autotest | cryptodev_sw_snow3g_autotest | lpm_autotest |
+======================+===========================+==============================+==============+
| Debian 11 (arm) | PASS | PASS | SKIPPED |
+----------------------+---------------------------+------------------------------+--------------+
| Ubuntu 20.04 ARM SVE | SKIPPED | SKIPPED | PASS |
+----------------------+---------------------------+------------------------------+--------------+
Debian 11 (arm)
Kernel: Container Host Kernel
Compiler: gcc 10.2.1
Ubuntu 20.04 ARM SVE
Kernel: 5.4.0-80-generic
Compiler: gcc 10.3.0 (Ubuntu 10.3.0-1ubuntu1~20.04)
To view detailed results, visit:
https://lab.dpdk.org/results/dashboard/patchsets/27692/
UNH-IOL DPDK Community Lab
To manage your email subscriptions, visit:
https://lab.dpdk.org/results/dashboard/preferences/subscriptions/
More information about the test-report
mailing list