|SUCCESS| [GIT MASTER] 5417d95f2851fc1239677ebd59cadf38f143f55e

dpdklab at iol.unh.edu dpdklab at iol.unh.edu
Fri Sep 22 01:47:51 CEST 2023


_Testing PASS_

Branch: dpdk-next-net-intel

5417d95f2851fc1239677ebd59cadf38f143f55e --> testing pass

Test environment and result as below:

+----------------------+------------------------------+---------------------------+--------------+
|     Environment      | cryptodev_sw_snow3g_autotest | cryptodev_sw_zuc_autotest | lpm_autotest |
+======================+==============================+===========================+==============+
| Debian 11 (arm)      | PASS                         | PASS                      | SKIPPED      |
+----------------------+------------------------------+---------------------------+--------------+
| Ubuntu 20.04 ARM SVE | SKIPPED                      | SKIPPED                   | PASS         |
+----------------------+------------------------------+---------------------------+--------------+


Debian 11 (arm)
	Kernel: Container Host Kernel
	Compiler: gcc 10.2.1

Ubuntu 20.04 ARM SVE
	Kernel: 5.4.0-80-generic
	Compiler: gcc 10.3.0 (Ubuntu 10.3.0-1ubuntu1~20.04)

To view detailed results, visit:
https://lab.dpdk.org/results/dashboard/tarballs/26204/

UNH-IOL DPDK Community Lab

To manage your email subscriptions, visit: 
https://lab.dpdk.org/results/dashboard/preferences/subscriptions/


More information about the test-report mailing list