|SUCCESS| pw131816 [PATCH] common/idpf: fix Tx checksum offload

dpdklab at iol.unh.edu dpdklab at iol.unh.edu
Fri Sep 22 15:25:57 CEST 2023


Test-Label: iol-unit-arm64-testing
Test-Status: SUCCESS
http://dpdk.org/patch/131816

_Testing PASS_

Submitter: Xing, Beilei <beilei.xing at intel.com>
Date: Friday, September 22 2023 15:29:35 
DPDK git baseline: Repo:dpdk-next-net-intel
  Branch: master
  CommitID:5417d95f2851fc1239677ebd59cadf38f143f55e

131816 --> testing pass

Test environment and result as below:

+----------------------+---------------------------+--------------+------------------------------+
|     Environment      | cryptodev_sw_zuc_autotest | lpm_autotest | cryptodev_sw_snow3g_autotest |
+======================+===========================+==============+==============================+
| Debian 11 (arm)      | PASS                      | SKIPPED      | PASS                         |
+----------------------+---------------------------+--------------+------------------------------+
| Ubuntu 20.04 ARM SVE | SKIPPED                   | PASS         | SKIPPED                      |
+----------------------+---------------------------+--------------+------------------------------+


Debian 11 (arm)
	Kernel: Container Host Kernel
	Compiler: gcc 10.2.1

Ubuntu 20.04 ARM SVE
	Kernel: 5.4.0-80-generic
	Compiler: gcc 10.3.0 (Ubuntu 10.3.0-1ubuntu1~20.04)

To view detailed results, visit:
https://lab.dpdk.org/results/dashboard/patchsets/27694/

UNH-IOL DPDK Community Lab

To manage your email subscriptions, visit: 
https://lab.dpdk.org/results/dashboard/preferences/subscriptions/


More information about the test-report mailing list