|SUCCESS| pw131899 [PATCH] ipsec: use sym_session_opaque_data for RT

dpdklab at iol.unh.edu dpdklab at iol.unh.edu
Mon Sep 25 23:06:29 CEST 2023


Test-Label: iol-unit-amd64-testing
Test-Status: SUCCESS
http://dpdk.org/patch/131899

_Testing PASS_

Submitter: Garry Marshall <gazmarsh at meaningfulname.net>
Date: Monday, September 25 2023 20:11:28 
DPDK git baseline: Repo:dpdk
  Branch: master
  CommitID:2744cb6ef086435ae7d3d997b9b62a3c74cec224

131899 --> testing pass

Test environment and result as below:

+---------------------+----------------+
|     Environment     | dpdk_unit_test |
+=====================+================+
| CentOS Stream 8     | PASS           |
+---------------------+----------------+
| CentOS Stream 9     | PASS           |
+---------------------+----------------+
| Windows Server 2019 | PASS           |
+---------------------+----------------+


CentOS Stream 8
	Kernel: 4.18.0-240.10.1.el8_3.x86_64
	Compiler: gcc 8.4.1 20200928

CentOS Stream 9
	Kernel: 4.18.0-240.10.1.el8_3.x86_64
	Compiler: gcc 11.3.1 20220421

Windows Server 2019
	Kernel: 10.0
	Compiler: clang 14.0 and gcc 8.1.0 (MinGW)

To view detailed results, visit:
https://lab.dpdk.org/results/dashboard/patchsets/27715/

UNH-IOL DPDK Community Lab

To manage your email subscriptions, visit: 
https://lab.dpdk.org/results/dashboard/preferences/subscriptions/


More information about the test-report mailing list