|SUCCESS| pw131900-131909 [PATCH] [v2,10/10] net/nfp: destroy securi
dpdklab at iol.unh.edu
dpdklab at iol.unh.edu
Tue Sep 26 06:14:51 CEST 2023
Test-Label: iol-unit-arm64-testing
Test-Status: SUCCESS
http://dpdk.org/patch/131909
_Testing PASS_
Submitter: Chaoyong He <chaoyong.he at corigine.com>
Date: Tuesday, September 26 2023 02:49:59
DPDK git baseline: Repo:dpdk-next-net
Branch: master
CommitID:29de1751682a9cad7cda9f3e85b39fc5c3810132
131900-131909 --> testing pass
Test environment and result as below:
+----------------------+------------------------------+---------------------------+--------------+
| Environment | cryptodev_sw_snow3g_autotest | cryptodev_sw_zuc_autotest | lpm_autotest |
+======================+==============================+===========================+==============+
| Debian 11 (arm) | PASS | PASS | SKIPPED |
+----------------------+------------------------------+---------------------------+--------------+
| Ubuntu 20.04 ARM SVE | SKIPPED | SKIPPED | PASS |
+----------------------+------------------------------+---------------------------+--------------+
Debian 11 (arm)
Kernel: Container Host Kernel
Compiler: gcc 10.2.1
Ubuntu 20.04 ARM SVE
Kernel: 5.4.0-80-generic
Compiler: gcc 10.3.0 (Ubuntu 10.3.0-1ubuntu1~20.04)
To view detailed results, visit:
https://lab.dpdk.org/results/dashboard/patchsets/27716/
UNH-IOL DPDK Community Lab
To manage your email subscriptions, visit:
https://lab.dpdk.org/results/dashboard/preferences/subscriptions/
More information about the test-report
mailing list