|SUCCESS| pw131910-131913 [PATCH] [v5,5/5] doc: add generic flow doc

dpdklab at iol.unh.edu dpdklab at iol.unh.edu
Tue Sep 26 11:11:11 CEST 2023


Test-Label: iol-compile-amd64-testing
Test-Status: SUCCESS
http://dpdk.org/patch/131913

_Testing PASS_

Submitter: Zhang, Qi Z <qi.z.zhang at intel.com>
Date: Tuesday, September 26 2023 11:29:31 
DPDK git baseline: Repo:dpdk
  Branch: master
  CommitID:d58c97481a136ad5342c9d8717b22bdaa5eccd43

131910-131913 --> testing pass

Test environment and result as below:

+---------------------+--------------------+----------------------+
|     Environment     | dpdk_meson_compile | dpdk_mingw64_compile |
+=====================+====================+======================+
| FreeBSD 13          | PASS               | SKIPPED              |
+---------------------+--------------------+----------------------+
| Windows Server 2019 | PASS               | PASS                 |
+---------------------+--------------------+----------------------+


FreeBSD 13
	Kernel: 13.0
	Compiler: clang 11.0.1

Windows Server 2019
	Kernel: 10.0
	Compiler: clang 14.0 and gcc 8.1.0 (MinGW)

To view detailed results, visit:
https://lab.dpdk.org/results/dashboard/patchsets/27717/

UNH-IOL DPDK Community Lab

To manage your email subscriptions, visit: 
https://lab.dpdk.org/results/dashboard/preferences/subscriptions/


More information about the test-report mailing list