|SUCCESS| pw131939-131950 [PATCH] [v4,12/12] app/test: add event DMA

dpdklab at iol.unh.edu dpdklab at iol.unh.edu
Tue Sep 26 20:50:48 CEST 2023


Test-Label: iol-compile-amd64-testing
Test-Status: SUCCESS
http://dpdk.org/patch/131950

_Testing PASS_

Submitter: Amit Prakash Shukla <amitprakashs at marvell.com>
Date: Tuesday, September 26 2023 10:32:33 
DPDK git baseline: Repo:dpdk-next-eventdev
  Branch: master
  CommitID:53b3521fa4b21174a4e620e8009ffc65396226e2

131939-131950 --> testing pass

Test environment and result as below:

+---------------------+--------------------+----------------------+
|     Environment     | dpdk_meson_compile | dpdk_mingw64_compile |
+=====================+====================+======================+
| FreeBSD 13          | PASS               | SKIPPED              |
+---------------------+--------------------+----------------------+
| Windows Server 2019 | PASS               | PASS                 |
+---------------------+--------------------+----------------------+


FreeBSD 13
	Kernel: 13.0
	Compiler: clang 11.0.1

Windows Server 2019
	Kernel: 10.0
	Compiler: clang 14.0 and gcc 8.1.0 (MinGW)

To view detailed results, visit:
https://lab.dpdk.org/results/dashboard/patchsets/27728/

UNH-IOL DPDK Community Lab

To manage your email subscriptions, visit: 
https://lab.dpdk.org/results/dashboard/preferences/subscriptions/


More information about the test-report mailing list